BEGIN:VCALENDAR
VERSION:2.0
PRODID:icalendar-ruby
CALSCALE:GREGORIAN
METHOD:PUBLISH
BEGIN:VEVENT
DTSTAMP:20260424T135806Z
UID:150-1627527@hslceldersburgmd.org
DTSTART:20260727T220000Z
DTEND:20260801T003000Z
CLASS:PUBLIC
CREATED:20260423T113225
DESCRIPTION:
LAST-MODIFIED:20260423T113225
LOCATION:
SUMMARY:Vacation Bible School (VBS) 2026
URL;VALUE=URI:https://hslceldersburgmd.org/events/vacation-bible-school-vbs
 -2026/2026-07-27
ATTACH;FILENAME=RainforestFalls_Logo_SM (2).png;FMTTYPE=image/png:https://d
 q5pwpg1q8ru0.cloudfront.net/2026/04/23/15/15/28/92ffd48a-086c-4e88-9cd5-a5
 31c29a57a4/RainforestFalls_Logo_SM%20(2).png
END:VEVENT
END:VCALENDAR
